BEGIN:VCALENDAR
VERSION:2.0
PRODID:-//Tonglen Lake Lodge - ECPv6.5.0.1//NONSGML v1.0//EN
CALSCALE:GREGORIAN
METHOD:PUBLISH
X-WR-CALNAME:Tonglen Lake Lodge
X-ORIGINAL-URL:https://tonglenlake.com
X-WR-CALDESC:Events for Tonglen Lake Lodge
REFRESH-INTERVAL;VALUE=DURATION:PT1H
X-Robots-Tag:noindex
X-PUBLISHED-TTL:PT1H
BEGIN:VTIMEZONE
TZID:America/Juneau
BEGIN:DAYLIGHT
TZOFFSETFROM:-0900
TZOFFSETTO:-0800
TZNAME:AKDT
DTSTART:20230312T110000
END:DAYLIGHT
BEGIN:STANDARD
TZOFFSETFROM:-0800
TZOFFSETTO:-0900
TZNAME:AKST
DTSTART:20231105T100000
END:STANDARD
BEGIN:DAYLIGHT
TZOFFSETFROM:-0900
TZOFFSETTO:-0800
TZNAME:AKDT
DTSTART:20240310T110000
END:DAYLIGHT
BEGIN:STANDARD
TZOFFSETFROM:-0800
TZOFFSETTO:-0900
TZNAME:AKST
DTSTART:20241103T100000
END:STANDARD
END:VTIMEZONE
BEGIN:VEVENT
DTSTART;TZID=America/Juneau:20240905T173000
DTEND;TZID=America/Juneau:20240905T183000
DTSTAMP:20260420T052125
CREATED:20240619T181836Z
LAST-MODIFIED:20240813T010216Z
UID:10000845-1725557400-1725561000@tonglenlake.com
SUMMARY:Yoga
DESCRIPTION:
URL:https://tonglenlake.com/schedule/yoga/2024-09-05/
CATEGORIES:Yoga
END:VEVENT
BEGIN:VEVENT
DTSTART;TZID=America/Juneau:20240902T173000
DTEND;TZID=America/Juneau:20240902T183000
DTSTAMP:20260420T052125
CREATED:20240619T181836Z
LAST-MODIFIED:20240813T010216Z
UID:10000844-1725298200-1725301800@tonglenlake.com
SUMMARY:Yoga
DESCRIPTION:
URL:https://tonglenlake.com/schedule/yoga/2024-09-02/
CATEGORIES:Yoga
END:VEVENT
BEGIN:VEVENT
DTSTART;TZID=America/Juneau:20240829T173000
DTEND;TZID=America/Juneau:20240829T183000
DTSTAMP:20260420T052125
CREATED:20240619T181836Z
LAST-MODIFIED:20240813T010216Z
UID:10000843-1724952600-1724956200@tonglenlake.com
SUMMARY:Yoga
DESCRIPTION:
URL:https://tonglenlake.com/schedule/yoga/2024-08-29/
CATEGORIES:Yoga
END:VEVENT
BEGIN:VEVENT
DTSTART;TZID=America/Juneau:20240826T173000
DTEND;TZID=America/Juneau:20240826T183000
DTSTAMP:20260420T052125
CREATED:20240619T181836Z
LAST-MODIFIED:20240813T010216Z
UID:10000842-1724693400-1724697000@tonglenlake.com
SUMMARY:Yoga
DESCRIPTION:
URL:https://tonglenlake.com/schedule/yoga/2024-08-26/
CATEGORIES:Yoga
END:VEVENT
BEGIN:VEVENT
DTSTART;TZID=America/Juneau:20240822T173000
DTEND;TZID=America/Juneau:20240822T183000
DTSTAMP:20260420T052125
CREATED:20240619T181836Z
LAST-MODIFIED:20240813T010216Z
UID:10000841-1724347800-1724351400@tonglenlake.com
SUMMARY:Yoga
DESCRIPTION:
URL:https://tonglenlake.com/schedule/yoga/2024-08-22/
CATEGORIES:Yoga
END:VEVENT
BEGIN:VEVENT
DTSTART;TZID=America/Juneau:20240819T173000
DTEND;TZID=America/Juneau:20240819T183000
DTSTAMP:20260420T052125
CREATED:20240619T181836Z
LAST-MODIFIED:20240813T010216Z
UID:10000840-1724088600-1724092200@tonglenlake.com
SUMMARY:Yoga
DESCRIPTION:
URL:https://tonglenlake.com/schedule/yoga/2024-08-19/
CATEGORIES:Yoga
END:VEVENT
BEGIN:VEVENT
DTSTART;TZID=America/Juneau:20240815T173000
DTEND;TZID=America/Juneau:20240815T183000
DTSTAMP:20260420T052125
CREATED:20240619T181836Z
LAST-MODIFIED:20240813T010216Z
UID:10000839-1723743000-1723746600@tonglenlake.com
SUMMARY:Yoga
DESCRIPTION:
URL:https://tonglenlake.com/schedule/yoga/2024-08-15/
CATEGORIES:Yoga
END:VEVENT
BEGIN:VEVENT
DTSTART;TZID=America/Juneau:20240812T173000
DTEND;TZID=America/Juneau:20240812T183000
DTSTAMP:20260420T052125
CREATED:20240619T181836Z
LAST-MODIFIED:20240813T010216Z
UID:10000838-1723483800-1723487400@tonglenlake.com
SUMMARY:Yoga
DESCRIPTION:
URL:https://tonglenlake.com/schedule/yoga/2024-08-12/
CATEGORIES:Yoga
END:VEVENT
BEGIN:VEVENT
DTSTART;TZID=America/Juneau:20240808T173000
DTEND;TZID=America/Juneau:20240808T183000
DTSTAMP:20260420T052125
CREATED:20240619T181836Z
LAST-MODIFIED:20240813T010216Z
UID:10000837-1723138200-1723141800@tonglenlake.com
SUMMARY:Yoga
DESCRIPTION:
URL:https://tonglenlake.com/schedule/yoga/2024-08-08/
CATEGORIES:Yoga
END:VEVENT
BEGIN:VEVENT
DTSTART;TZID=America/Juneau:20240805T173000
DTEND;TZID=America/Juneau:20240805T183000
DTSTAMP:20260420T052125
CREATED:20240619T181836Z
LAST-MODIFIED:20240813T010216Z
UID:10000836-1722879000-1722882600@tonglenlake.com
SUMMARY:Yoga
DESCRIPTION:
URL:https://tonglenlake.com/schedule/yoga/2024-08-05/
CATEGORIES:Yoga
END:VEVENT
BEGIN:VEVENT
DTSTART;TZID=America/Juneau:20240801T173000
DTEND;TZID=America/Juneau:20240801T183000
DTSTAMP:20260420T052125
CREATED:20240619T181836Z
LAST-MODIFIED:20240813T010216Z
UID:10000835-1722533400-1722537000@tonglenlake.com
SUMMARY:Yoga
DESCRIPTION:
URL:https://tonglenlake.com/schedule/yoga/2024-08-01/
CATEGORIES:Yoga
END:VEVENT
BEGIN:VEVENT
DTSTART;TZID=America/Juneau:20240729T173000
DTEND;TZID=America/Juneau:20240729T183000
DTSTAMP:20260420T052125
CREATED:20240619T181836Z
LAST-MODIFIED:20240813T010216Z
UID:10000834-1722274200-1722277800@tonglenlake.com
SUMMARY:Yoga
DESCRIPTION:
URL:https://tonglenlake.com/schedule/yoga/2024-07-29/
CATEGORIES:Yoga
END:VEVENT
BEGIN:VEVENT
DTSTART;TZID=America/Juneau:20240725T173000
DTEND;TZID=America/Juneau:20240725T183000
DTSTAMP:20260420T052125
CREATED:20240619T181836Z
LAST-MODIFIED:20240813T010216Z
UID:10000833-1721928600-1721932200@tonglenlake.com
SUMMARY:Yoga
DESCRIPTION:
URL:https://tonglenlake.com/schedule/yoga/2024-07-25/
CATEGORIES:Yoga
END:VEVENT
BEGIN:VEVENT
DTSTART;TZID=America/Juneau:20240722T173000
DTEND;TZID=America/Juneau:20240722T183000
DTSTAMP:20260420T052125
CREATED:20240619T181836Z
LAST-MODIFIED:20240813T010216Z
UID:10000832-1721669400-1721673000@tonglenlake.com
SUMMARY:Yoga
DESCRIPTION:
URL:https://tonglenlake.com/schedule/yoga/2024-07-22/
CATEGORIES:Yoga
END:VEVENT
BEGIN:VEVENT
DTSTART;TZID=America/Juneau:20240718T173000
DTEND;TZID=America/Juneau:20240718T183000
DTSTAMP:20260420T052125
CREATED:20240619T181836Z
LAST-MODIFIED:20240813T010216Z
UID:10000831-1721323800-1721327400@tonglenlake.com
SUMMARY:Yoga
DESCRIPTION:
URL:https://tonglenlake.com/schedule/yoga/2024-07-18/
CATEGORIES:Yoga
END:VEVENT
BEGIN:VEVENT
DTSTART;TZID=America/Juneau:20240715T173000
DTEND;TZID=America/Juneau:20240715T183000
DTSTAMP:20260420T052125
CREATED:20240619T181836Z
LAST-MODIFIED:20240813T010216Z
UID:10000830-1721064600-1721068200@tonglenlake.com
SUMMARY:Yoga
DESCRIPTION:
URL:https://tonglenlake.com/schedule/yoga/2024-07-15/
CATEGORIES:Yoga
END:VEVENT
BEGIN:VEVENT
DTSTART;TZID=America/Juneau:20240711T173000
DTEND;TZID=America/Juneau:20240711T183000
DTSTAMP:20260420T052125
CREATED:20240619T181836Z
LAST-MODIFIED:20240813T010216Z
UID:10000829-1720719000-1720722600@tonglenlake.com
SUMMARY:Yoga
DESCRIPTION:
URL:https://tonglenlake.com/schedule/yoga/2024-07-11/
CATEGORIES:Yoga
END:VEVENT
BEGIN:VEVENT
DTSTART;TZID=America/Juneau:20240708T173000
DTEND;TZID=America/Juneau:20240708T183000
DTSTAMP:20260420T052125
CREATED:20240619T181836Z
LAST-MODIFIED:20240813T010216Z
UID:10000828-1720459800-1720463400@tonglenlake.com
SUMMARY:Yoga
DESCRIPTION:
URL:https://tonglenlake.com/schedule/yoga/2024-07-08/
CATEGORIES:Yoga
END:VEVENT
BEGIN:VEVENT
DTSTART;TZID=America/Juneau:20240704T173000
DTEND;TZID=America/Juneau:20240704T183000
DTSTAMP:20260420T052125
CREATED:20240619T181836Z
LAST-MODIFIED:20240813T010216Z
UID:10000827-1720114200-1720117800@tonglenlake.com
SUMMARY:Yoga
DESCRIPTION:
URL:https://tonglenlake.com/schedule/yoga/2024-07-04/
CATEGORIES:Yoga
END:VEVENT
BEGIN:VEVENT
DTSTART;TZID=America/Juneau:20240701T173000
DTEND;TZID=America/Juneau:20240701T183000
DTSTAMP:20260420T052125
CREATED:20240619T181836Z
LAST-MODIFIED:20240813T010216Z
UID:10000826-1719855000-1719858600@tonglenlake.com
SUMMARY:Yoga
DESCRIPTION:
URL:https://tonglenlake.com/schedule/yoga/2024-07-01/
CATEGORIES:Yoga
END:VEVENT
BEGIN:VEVENT
DTSTART;TZID=America/Juneau:20240627T173000
DTEND;TZID=America/Juneau:20240627T183000
DTSTAMP:20260420T052125
CREATED:20240619T181836Z
LAST-MODIFIED:20240813T010216Z
UID:10000825-1719509400-1719513000@tonglenlake.com
SUMMARY:Yoga
DESCRIPTION:
URL:https://tonglenlake.com/schedule/yoga/2024-06-27/
CATEGORIES:Yoga
END:VEVENT
BEGIN:VEVENT
DTSTART;TZID=America/Juneau:20240624T173000
DTEND;TZID=America/Juneau:20240624T183000
DTSTAMP:20260420T052125
CREATED:20240619T181836Z
LAST-MODIFIED:20240813T010216Z
UID:10000824-1719250200-1719253800@tonglenlake.com
SUMMARY:Yoga
DESCRIPTION:
URL:https://tonglenlake.com/schedule/yoga/2024-06-24/
CATEGORIES:Yoga
END:VEVENT
BEGIN:VEVENT
DTSTART;TZID=America/Juneau:20240620T173000
DTEND;TZID=America/Juneau:20240620T183000
DTSTAMP:20260420T052125
CREATED:20240619T181836Z
LAST-MODIFIED:20240813T010216Z
UID:10000823-1718904600-1718908200@tonglenlake.com
SUMMARY:Yoga
DESCRIPTION:
URL:https://tonglenlake.com/schedule/yoga/2024-06-20/
CATEGORIES:Yoga
END:VEVENT
BEGIN:VEVENT
DTSTART;TZID=America/Juneau:20230908T200000
DTEND;TZID=America/Juneau:20230908T213000
DTSTAMP:20260420T052125
CREATED:20230508T202441Z
LAST-MODIFIED:20230508T203438Z
UID:10000064-1694203200-1694208600@tonglenlake.com
SUMMARY:Yoga with Mila
DESCRIPTION:Monday and Wednesday at 5:00pm and Friday at 8:00pm. \n$10 per person for drop in and Free for Tonglen Guests. \n \nAbout the Teacher: Mila has been practicing and teaching yoga for over 14 years. She specializes in Ashtanga yoga and offers in-depth exploration of ancient yogic concepts and asana practice. \nAbout the Class: All levels welcome. \nAbout the Space: Classes take place on the scenic outdoor pavilion at Tonglen Lake Lodge. An indoor yoga room is available if needed due to weather.
URL:https://tonglenlake.com/schedule/yoga-with-mila-40/
CATEGORIES:Yoga
END:VEVENT
BEGIN:VEVENT
DTSTART;TZID=America/Juneau:20230906T180000
DTEND;TZID=America/Juneau:20230906T183000
DTSTAMP:20260420T052125
CREATED:20230508T202346Z
LAST-MODIFIED:20230614T205252Z
UID:10000063-1694023200-1694025000@tonglenlake.com
SUMMARY:Yoga with Mila
DESCRIPTION:Monday and Wednesday at 6:00pm and Friday at 8:00pm. \n$10 per person for drop in and Free for Tonglen Guests. \n \nAbout the Teacher: Mila has been practicing and teaching yoga for over 14 years. She specializes in Ashtanga yoga and offers in-depth exploration of ancient yogic concepts and asana practice. \nAbout the Class: All levels welcome. \nAbout the Space: Classes take place on the scenic outdoor pavilion at Tonglen Lake Lodge. An indoor yoga room is available if needed due to weather.
URL:https://tonglenlake.com/schedule/yoga-with-mila-39/
CATEGORIES:Yoga
END:VEVENT
BEGIN:VEVENT
DTSTART;TZID=America/Juneau:20230904T180000
DTEND;TZID=America/Juneau:20230904T183000
DTSTAMP:20260420T052125
CREATED:20230508T202304Z
LAST-MODIFIED:20230614T205052Z
UID:10000062-1693850400-1693852200@tonglenlake.com
SUMMARY:Yoga with Mila
DESCRIPTION:Monday and Wednesday at 5:00pm and Friday at 8:00pm. \n$10 per person for drop in and Free for Tonglen Guests. \n \nAbout the Teacher: Mila has been practicing and teaching yoga for over 14 years. She specializes in Ashtanga yoga and offers in-depth exploration of ancient yogic concepts and asana practice. \nAbout the Class: All levels welcome. \nAbout the Space: Classes take place on the scenic outdoor pavilion at Tonglen Lake Lodge. An indoor yoga room is available if needed due to weather.
URL:https://tonglenlake.com/schedule/yoga-with-mila-38/
CATEGORIES:Yoga
END:VEVENT
BEGIN:VEVENT
DTSTART;TZID=America/Juneau:20230901T200000
DTEND;TZID=America/Juneau:20230901T213000
DTSTAMP:20260420T052125
CREATED:20230508T202226Z
LAST-MODIFIED:20230508T203507Z
UID:10000061-1693598400-1693603800@tonglenlake.com
SUMMARY:Yoga with Mila
DESCRIPTION:Monday and Wednesday at 5:00pm and Friday at 8:00pm. \n$10 per person for drop in and Free for Tonglen Guests. \n \nAbout the Teacher: Mila has been practicing and teaching yoga for over 14 years. She specializes in Ashtanga yoga and offers in-depth exploration of ancient yogic concepts and asana practice. \nAbout the Class: All levels welcome. \nAbout the Space: Classes take place on the scenic outdoor pavilion at Tonglen Lake Lodge. An indoor yoga room is available if needed due to weather.
URL:https://tonglenlake.com/schedule/yoga-with-mila-37/
CATEGORIES:Yoga
END:VEVENT
BEGIN:VEVENT
DTSTART;TZID=America/Juneau:20230830T180000
DTEND;TZID=America/Juneau:20230830T183000
DTSTAMP:20260420T052125
CREATED:20230508T202053Z
LAST-MODIFIED:20230614T205138Z
UID:10000060-1693418400-1693420200@tonglenlake.com
SUMMARY:Yoga with Mila
DESCRIPTION:Monday and Wednesday at 5:00pm and Friday at 8:00pm. \n$10 per person for drop in and Free for Tonglen Guests. \n \nAbout the Teacher: Mila has been practicing and teaching yoga for over 14 years. She specializes in Ashtanga yoga and offers in-depth exploration of ancient yogic concepts and asana practice. \nAbout the Class: All levels welcome. \nAbout the Space: Classes take place on the scenic outdoor pavilion at Tonglen Lake Lodge. An indoor yoga room is available if needed due to weather.
URL:https://tonglenlake.com/schedule/yoga-with-mila-36/
CATEGORIES:Yoga
END:VEVENT
BEGIN:VEVENT
DTSTART;TZID=America/Juneau:20230828T180000
DTEND;TZID=America/Juneau:20230828T183000
DTSTAMP:20260420T052125
CREATED:20230508T202006Z
LAST-MODIFIED:20230614T205212Z
UID:10000059-1693245600-1693247400@tonglenlake.com
SUMMARY:Yoga with Mila
DESCRIPTION:Monday and Wednesday at 6:00pm and Friday at 8:00pm. \n$10 per person for drop in and Free for Tonglen Guests. \n \nAbout the Teacher: Mila has been practicing and teaching yoga for over 14 years. She specializes in Ashtanga yoga and offers in-depth exploration of ancient yogic concepts and asana practice. \nAbout the Class: All levels welcome. \nAbout the Space: Classes take place on the scenic outdoor pavilion at Tonglen Lake Lodge. An indoor yoga room is available if needed due to weather.
URL:https://tonglenlake.com/schedule/yoga-with-mila-35/
CATEGORIES:Yoga
END:VEVENT
BEGIN:VEVENT
DTSTART;TZID=America/Juneau:20230825T200000
DTEND;TZID=America/Juneau:20230825T213000
DTSTAMP:20260420T052125
CREATED:20230508T201927Z
LAST-MODIFIED:20230616T031713Z
UID:10000058-1692993600-1692999000@tonglenlake.com
SUMMARY:Yoga with Mila
DESCRIPTION:Monday and Wednesday at 6:00pm and Friday at 8:00pm. \n$10 per person for drop in and Free for Tonglen Guests. \n \nAbout the Teacher: Mila has been practicing and teaching yoga for over 14 years. She specializes in Ashtanga yoga and offers in-depth exploration of ancient yogic concepts and asana practice. \nAbout the Class: All levels welcome. \nAbout the Space: Classes take place on the scenic outdoor pavilion at Tonglen Lake Lodge. An indoor yoga room is available if needed due to weather.
URL:https://tonglenlake.com/schedule/yoga-with-mila-34/
CATEGORIES:Yoga
END:VEVENT
END:VCALENDAR