BEGIN:VCALENDAR
VERSION:2.0
PRODID:-//Tonglen Lake Lodge - ECPv6.5.0.1//NONSGML v1.0//EN
CALSCALE:GREGORIAN
METHOD:PUBLISH
X-WR-CALNAME:Tonglen Lake Lodge
X-ORIGINAL-URL:https://tonglenlake.com
X-WR-CALDESC:Events for Tonglen Lake Lodge
REFRESH-INTERVAL;VALUE=DURATION:PT1H
X-Robots-Tag:noindex
X-PUBLISHED-TTL:PT1H
BEGIN:VTIMEZONE
TZID:America/Juneau
BEGIN:DAYLIGHT
TZOFFSETFROM:-0900
TZOFFSETTO:-0800
TZNAME:AKDT
DTSTART:20230312T110000
END:DAYLIGHT
BEGIN:STANDARD
TZOFFSETFROM:-0800
TZOFFSETTO:-0900
TZNAME:AKST
DTSTART:20231105T100000
END:STANDARD
END:VTIMEZONE
BEGIN:VEVENT
DTSTART;TZID=America/Juneau:20230422T140000
DTEND;TZID=America/Juneau:20230422T153000
DTSTAMP:20260423T000417
CREATED:20230414T195541Z
LAST-MODIFIED:20230508T203634Z
UID:10000014-1682172000-1682177400@tonglenlake.com
SUMMARY:COMMUNITY CONCERT: Hot Tunes in the Mid-Winter
DESCRIPTION:AT THE MCKINLEY COMMUNITY CENTER
URL:https://tonglenlake.com/schedule/concert-hot-tunes-in-the-mid-winter/
CATEGORIES:Tonglen Tunes Music Series
END:VEVENT
END:VCALENDAR