BEGIN:VCALENDAR
VERSION:2.0
PRODID:-//Tonglen Lake Lodge - ECPv6.5.0.1//NONSGML v1.0//EN
CALSCALE:GREGORIAN
METHOD:PUBLISH
X-WR-CALNAME:Tonglen Lake Lodge
X-ORIGINAL-URL:https://tonglenlake.com
X-WR-CALDESC:Events for Tonglen Lake Lodge
REFRESH-INTERVAL;VALUE=DURATION:PT1H
X-Robots-Tag:noindex
X-PUBLISHED-TTL:PT1H
BEGIN:VTIMEZONE
TZID:America/Juneau
BEGIN:DAYLIGHT
TZOFFSETFROM:-0900
TZOFFSETTO:-0800
TZNAME:AKDT
DTSTART:20230312T110000
END:DAYLIGHT
BEGIN:STANDARD
TZOFFSETFROM:-0800
TZOFFSETTO:-0900
TZNAME:AKST
DTSTART:20231105T100000
END:STANDARD
END:VTIMEZONE
BEGIN:VEVENT
DTSTART;TZID=America/Juneau:20230602T170000
DTEND;TZID=America/Juneau:20230602T190000
DTSTAMP:20260419T231706
CREATED:20230508T185722Z
LAST-MODIFIED:20230511T172030Z
UID:10000020-1685725200-1685732400@tonglenlake.com
SUMMARY:First Friday Art Opening: Kassandra Mirosh
DESCRIPTION:Much loved local Artist Kassandra Mirosh will be back! \n \nCome join us for our first Art Opening of the season! Come for the art\, snacks and socializing and stay for our book signing with Tom Walker!
URL:https://tonglenlake.com/schedule/first-friday-art-opening-tba/
CATEGORIES:First Friday Art Opening
END:VEVENT
END:VCALENDAR